BEGIN:VCALENDAR
VERSION:2.0
PRODID:-//ChamberMaster//Event Calendar 2.0//EN
METHOD:PUBLISH
X-PUBLISHED-TTL:P3D
REFRESH-INTERVAL:P3D
CALSCALE:GREGORIAN
BEGIN:VEVENT
DTSTART:20180613T233000Z
DTEND:20180614T001500Z
X-MICROSOFT-CDO-ALLDAYEVENT:FALSE
SUMMARY:Zumba Wednesdays
DESCRIPTION:Hear the Music\, Feel the Music\, and Let the Music Move You!!!\n\n \n\nZumba  is perfect for Everybody and every Body. Zumba  is a total workout\, combining all elements of fitness\, cardio\, muscle conditioning\, balance\, flexibility\, boosted energy and a serious dose of awesome each time you leave class. Once the Latin and World rhythms take over\, you'll see why Zumba  fitness classes are often called exercise in disguise.\n\n\n\nCome and join the Dance Fitness Party!
X-ALT-DESC;FMTTYPE=text/html:<div style="color: rgb(102\, 102\, 102)\; font-family: &quot\;Helvetica Neue&quot\;\, Helvetica\, Arial\, sans-serif\;"><b>Hear the Music\, Feel the Music\, and Let the Music Move You!!!</b></div>\n\n<div style="color: rgb(102\, 102\, 102)\; font-family: &quot\;Helvetica Neue&quot\;\, Helvetica\, Arial\, sans-serif\;">&nbsp\;</div>\n\n<div style="color: rgb(102\, 102\, 102)\; font-family: &quot\;Helvetica Neue&quot\;\, Helvetica\, Arial\, sans-serif\;">Zumba&reg\; is perfect for Everybody and every Body. Zumba&reg\; is a total workout\, combining all elements of fitness\, cardio\, muscle conditioning\, balance\, flexibility\, boosted energy and a serious dose of awesome each time you leave class. Once the Latin and World rhythms take over\, you&#39\;ll see why Zumba&reg\; fitness classes are often called exercise in disguise.<br />\n<br />\n<span style="color: rgb(102\, 102\, 102)\; font-family: &quot\;Helvetica Neue&quot\;\, Helvetica\, Arial\, sans-serif\;">Come and join the Dance Fitness Party!</span></div>\n
LOCATION:Bridges Elementary
UID:e.1184.17779
SEQUENCE:3
DTSTAMP:20260424T100730Z
URL:http://members.saukprairie.com/events/details/zumba-wednesdays-06-13-2018-17779
END:VEVENT

END:VCALENDAR
