BEGIN:VCALENDAR
VERSION:2.0
PRODID:-//ChamberMaster//Event Calendar 2.0//EN
METHOD:PUBLISH
X-PUBLISHED-TTL:P3D
REFRESH-INTERVAL:P3D
CALSCALE:GREGORIAN
BEGIN:VEVENT
DTSTART:20260313T150000Z
DTEND:20260313T200000Z
X-MICROSOFT-CDO-ALLDAYEVENT:FALSE
SUMMARY:Colon Cancer Screening Event
DESCRIPTION:Colon Cancer Screening Event   Blood Test Screening\n\nSeeley Creek Healthcare is hosting a Colon Cancer Screening Event in Reedsburg offering an easy blood test screening option for eligible patients.\n\nThe Shield  blood test by Guardant is an FDA-approved screening test that provides a simple way to screen for colon cancer with a blood draw. This screening opportunity is available for men and women ages 45 85 who are due for screening and have Medicare\, TRICARE\, or private insurance.\n\nJoin us on Friday\, March 13\, 2026\, from 10:00 a.m. to 3:00 p.m. at Seeley Creek Healthcare\, 241 2nd Street in Reedsburg.\n\nAppointments are encouraged to reserve your spot. You can register online or scan the QR code on the event flyer.\n\nEarly screening plays an important role in preventing and detecting colon cancer. This event provides a convenient way to take an important step toward protecting your health.
X-ALT-DESC;FMTTYPE=text/html:<p data-end="194" data-start="139"><strong data-end="194" data-start="139">Colon Cancer Screening Event &ndash\; Blood Test Screening</strong></p>\n\n<p data-end="346" data-start="196">Seeley Creek Healthcare is hosting a <strong data-end="278" data-start="233">Colon Cancer Screening Event in Reedsburg</strong> offering an easy blood test screening option for eligible patients.</p>\n\n<p data-end="646" data-start="348">The <strong data-end="386" data-start="352">Shield&trade\; blood test by Guardant</strong> is an FDA-approved screening test that provides a simple way to screen for colon cancer with a blood draw. This screening opportunity is available for <strong data-end="592" data-start="538">men and women ages 45&ndash\;85 who are due for screening</strong> and have <strong data-end="645" data-start="602">Medicare\, TRICARE\, or private insurance</strong>.</p>\n\n<p data-end="778" data-start="648">Join us on <strong data-end="715" data-start="659">Friday\, March 13\, 2026\, from 10:00 a.m. to 3:00 p.m.</strong> at <strong data-end="775" data-start="719">Seeley Creek Healthcare\, 241 2nd Street in Reedsburg</strong>.</p>\n\n<p data-end="893" data-start="780">Appointments are encouraged to reserve your spot. You can register online or scan the QR code on the event flyer.</p>\n\n<p data-end="1070" data-start="895">Early screening plays an important role in preventing and detecting colon cancer. This event provides a convenient way to take an important step toward protecting your health.</p>\n
LOCATION:Seeley Creek Healthcare
UID:e.1184.37053
SEQUENCE:3
DTSTAMP:20260422T093557Z
URL:https://members.saukprairie.com/events/details/colon-cancer-screening-event-37053
END:VEVENT

END:VCALENDAR
