BEGIN:VCALENDAR
VERSION:2.0
PRODID:-//ChamberMaster//Event Calendar 2.0//EN
METHOD:PUBLISH
X-PUBLISHED-TTL:P3D
REFRESH-INTERVAL:P3D
CALSCALE:GREGORIAN
BEGIN:VEVENT
DTSTART:20210919T200000Z
DTEND:20210919T220000Z
X-MICROSOFT-CDO-ALLDAYEVENT:FALSE
SUMMARY:Cub Scout Pack 373 Recruitment Night
DESCRIPTION:Join us at Riverfront Park for an introduction to the Cub Scout program\, meet the organization leaders\, and register to join! Boys and girls currently in grades K-5 are welcome to join this program that focuses on citizenship\, leadership\, STEM\, and life skills!
X-ALT-DESC;FMTTYPE=text/html:Join us at Riverfront Park for an introduction to the Cub Scout program\, meet the organization leaders\, and register to join! Boys and girls currently in grades K-5 are welcome to join this program that focuses on citizenship\, leadership\, STEM\, and life skills!
LOCATION:Sauk City Riverfront Park
UID:e.1184.26889
SEQUENCE:3
DTSTAMP:20260421T183354Z
URL:https://members.saukprairie.com/events/details/cub-scout-pack-373-recruitment-night-26889
END:VEVENT

END:VCALENDAR
