BEGIN:VCALENDAR
VERSION:2.0
PRODID:-//ChamberMaster//Event Calendar 2.0//EN
METHOD:PUBLISH
X-PUBLISHED-TTL:P3D
REFRESH-INTERVAL:P3D
CALSCALE:GREGORIAN
BEGIN:VEVENT
DTSTART:20260401T150000Z
DTEND:20260401T153000Z
X-MICROSOFT-CDO-ALLDAYEVENT:FALSE
SUMMARY:Culver's Storytime
DESCRIPTION:Join us for this very special storytime at Culver's! Bring your little ones to listen and laugh along to fun stories and songs! Enjoy a tasty scoop of custard and coloring sheets from Culver's! Geared for ages 5 and under. No registration required.
X-ALT-DESC;FMTTYPE=text/html:Join us for this very special storytime at Culver&rsquo\;s! Bring your little ones to listen and laugh along to fun stories and songs! Enjoy a tasty scoop of custard and coloring sheets from Culver&#39\;s! Geared for ages 5 and under. No registration required.
LOCATION:Culver's in Sauk City
UID:e.1184.37050
SEQUENCE:3
DTSTAMP:20260422T090820Z
URL:https://members.saukprairie.com/events/details/culver-s-storytime-37050
END:VEVENT

END:VCALENDAR
