BEGIN:VCALENDAR
VERSION:2.0
PRODID:-//ChamberMaster//Event Calendar 2.0//EN
METHOD:PUBLISH
X-PUBLISHED-TTL:P3D
REFRESH-INTERVAL:P3D
CALSCALE:GREGORIAN
BEGIN:VEVENT
DTSTART:20260424T150000Z
DTEND:20260424T160000Z
X-MICROSOFT-CDO-ALLDAYEVENT:FALSE
SUMMARY:Eating for Life - Feed Your Fitness: Wellspring Session
DESCRIPTION:Join us for this special Friday morning edition of Eating for Life at Wellspring in Prairie du Sac! \n\nFriday\, April 24\, 10:00-11:00am\n\n \nLearn how everyday food choices impact the way you feel and function at Sauk Prairie Healthcare's monthly nutrition education series\, Eating for Life. Whether you're just starting to learn about nutrition or looking to build on already established knowledge\, this class will be an incredible way to access our nutrition experts and get the answers you're looking for!\n\nFeed Your Fitness\n\nFuel your workouts the right way! Join Sauk Prairie Healthcare's dietitian-led class\, Feed Your Fitness\, and learn how proper nutrition can power your exercise routine and speed up recovery. Discover what to eat before\, during\, and after workouts to maximize energy\, build strength\, and support overall health. Take your fitness to the next level starting with your plate!\n\n\n\nThere is a $5.00 attendance fee and registration is required. Register here.
X-ALT-DESC;FMTTYPE=text/html:Join us for this special Friday morning edition of Eating for Life at Wellspring in Prairie du Sac!&nbsp\;<br />\nFriday\, April 24\, 10:00-11:00am<br />\n&nbsp\;\n<p>Learn how everyday food choices impact the way you feel and function at Sauk Prairie Healthcare&#39\;s monthly nutrition education series\, Eating for Life. Whether you&#39\;re just starting to learn about nutrition or looking to build on already established knowledge\, this class will be an incredible way to access our nutrition experts and get the answers you&#39\;re looking for!</p>\n\n<h2>Feed Your Fitness</h2>\n\n<p>Fuel your workouts the right way! Join Sauk Prairie Healthcare&rsquo\;s dietitian-led class\,&nbsp\;<em>Feed Your Fitness</em>\, and learn how proper nutrition can power your exercise routine and speed up recovery. Discover what to eat before\, during\, and after workouts to maximize energy\, build strength\, and support overall health. Take your fitness to the next level&mdash\;starting with your plate!<br />\n<br />\nThere is a $5.00 attendance fee and registration is required.&nbsp\;<a href="https://clients.mindbodyonline.com/ASP/main_enroll.asp?studioid=5735856&amp\;tg=25&amp\;vt=37&amp\;lvl=&amp\;stype=-102&amp\;view=day&amp\;trn=0&amp\;page=&amp\;catid=&amp\;prodid=&amp\;date=3%2f3%2f2026&amp\;classid=0&amp\;prodGroupId=&amp\;sSU=&amp\;optForwardingLink=&amp\;qParam=&amp\;justloggedin=&amp\;nLgIn=&amp\;pMode=0&amp\;loc=1">Register here.&nbsp\;</a>&nbsp\;</p>\n
LOCATION:
UID:e.1184.37054
SEQUENCE:3
DTSTAMP:20260422T070246Z
URL:https://members.saukprairie.com/events/details/eating-for-life-feed-your-fitness-wellspring-session-37054
END:VEVENT

END:VCALENDAR
