BEGIN:VCALENDAR
VERSION:2.0
PRODID:-//ChamberMaster//Event Calendar 2.0//EN
METHOD:PUBLISH
X-PUBLISHED-TTL:P3D
REFRESH-INTERVAL:P3D
CALSCALE:GREGORIAN
BEGIN:VEVENT
DTSTART:20260320T000000Z
DTEND:20260320T020000Z
X-MICROSOFT-CDO-ALLDAYEVENT:FALSE
SUMMARY:Fire on the River 2026 Rising Star Tryouts
DESCRIPTION:Fire on the River Rising Star Tryouts   March 19\n\nThink you've got what it takes to play on the Fire on the River main stage? The Fire on the River Rising Star Tryouts are your chance to shine! Solo artists\, duos\, and trios are invited to audition for a spot in this year's People's Choice competition.\n\nJoin us for the first round of live tryouts and perform in front of a supportive crowd at The Gym Bar & Grill. Attendees will enjoy a night of great local music and help vote for the performers they want to see advance.\n\nTop acts from the tryouts will move on for a chance to perform on the Fire on the River stage during the July 4th celebration.\n\n  Date: Thursday\, March 19\n\n  Time: 7:00 PM\n\n  Location: The Gym Bar & Grill\n\nMusicians must sign up in advance to secure a tryout spot.
X-ALT-DESC;FMTTYPE=text/html:<h3 data-end="123" data-start="69">Fire on the River Rising Star Tryouts &ndash\; March 19</h3>\n\n<p data-end="380" data-start="124">Think you&rsquo\;ve got what it takes to play on the Fire on the River main stage? The <strong data-end="245" data-start="204">Fire on the River Rising Star Tryouts</strong> are your chance to shine! Solo artists\, duos\, and trios are invited to audition for a spot in this year&rsquo\;s People&rsquo\;s Choice competition.</p>\n\n<p data-end="605" data-start="382">Join us for the first round of live tryouts and perform in front of a supportive crowd at <strong data-end="495" data-start="472">The Gym Bar &amp\; Grill</strong>. Attendees will enjoy a night of great local music and help vote for the performers they want to see advance.</p>\n\n<p data-end="737" data-start="607">Top acts from the tryouts will move on for a chance to perform on the <strong data-end="736" data-start="677">Fire on the River stage during the July 4th celebration</strong>.</p>\n\n<p data-end="833" data-start="739">&#128197\; <strong data-end="751" data-start="742">Date:</strong> Thursday\, March 19<br data-end="773" data-start="770" />\n&#9200\; <strong data-end="784" data-start="775">Time:</strong> 7:00 PM<br data-end="795" data-start="792" />\n&#128205\; <strong data-end="811" data-start="798">Location:</strong> The Gym Bar &amp\; Grill</p>\n\n<p data-end="893" data-start="835">Musicians must sign up in advance to secure a tryout spot.</p>\n
LOCATION:
UID:e.1184.37051
SEQUENCE:3
DTSTAMP:20260422T094532Z
URL:https://members.saukprairie.com/events/details/fire-on-the-river-2026-rising-star-tryouts-37051
END:VEVENT

END:VCALENDAR
