BEGIN:VCALENDAR
VERSION:2.0
PRODID:-//ChamberMaster//Event Calendar 2.0//EN
METHOD:PUBLISH
X-PUBLISHED-TTL:P3D
REFRESH-INTERVAL:P3D
CALSCALE:GREGORIAN
BEGIN:VEVENT
DTSTART:20260319T200000Z
DTEND:20260319T210000Z
X-MICROSOFT-CDO-ALLDAYEVENT:FALSE
SUMMARY:Healing Through Community Grief & Loss Group
DESCRIPTION:Healing Through Community   Grief & Loss Group\n\nGrief can feel overwhelming\, but you do not have to walk through it alone. Healing Through Community is a supportive grief and loss group designed to bring people together to share experiences\, listen\, and find comfort among others who understand.\n\nThis welcoming group provides a safe and compassionate space for conversation\, reflection\, and connection as you navigate your grief journey.\n\nHosted through a partnership between Maplewood and St. Croix Hospice.\n\nDate: March 19\, 2026\n\nTime: 3:00   4:00 PM\n\nLocation: 245 Sycamore St.\, Sauk City\, WI 53583\n\nEveryone experiencing loss is welcome.
X-ALT-DESC;FMTTYPE=text/html:<h3 data-end="854" data-start="802">Healing Through Community &ndash\; Grief &amp\; Loss Group</h3>\n\n<p data-end="1106" data-start="855">Grief can feel overwhelming\, but you do not have to walk through it alone. <strong data-end="959" data-start="930">Healing Through Community</strong> is a supportive grief and loss group designed to bring people together to share experiences\, listen\, and find comfort among others who understand.</p>\n\n<p data-end="1249" data-start="1108">This welcoming group provides a safe and compassionate space for conversation\, reflection\, and connection as you navigate your grief journey.</p>\n\n<p data-end="1324" data-start="1251">Hosted through a partnership between <strong data-end="1323" data-start="1288">Maplewood and St. Croix Hospice</strong>.</p>\n\n<p data-end="1433" data-start="1326"><strong data-end="1335" data-start="1326">Date:</strong> March 19\, 2026<br data-end="1353" data-start="1350" />\n<strong data-end="1362" data-start="1353">Time:</strong> 3:00 &ndash\; 4:00 PM<br data-end="1380" data-start="1377" />\n<strong data-end="1393" data-start="1380">Location:</strong> 245 Sycamore St.\, Sauk City\, WI 53583</p>\n\n<p data-end="1473" data-start="1435">Everyone experiencing loss is welcome.</p>\n
LOCATION:Maplewood Sauk Prairie
UID:e.1184.37048
SEQUENCE:3
DTSTAMP:20260422T104216Z
URL:https://members.saukprairie.com/events/details/healing-through-community-grief-loss-group-37048
END:VEVENT

END:VCALENDAR
