BEGIN:VCALENDAR
VERSION:2.0
PRODID:-//ChamberMaster//Event Calendar 2.0//EN
METHOD:PUBLISH
X-PUBLISHED-TTL:P3D
REFRESH-INTERVAL:P3D
CALSCALE:GREGORIAN
BEGIN:VEVENT
DTSTART:20210918T143000Z
DTEND:20210918T180000Z
X-MICROSOFT-CDO-ALLDAYEVENT:FALSE
SUMMARY:Meyer Oak Grove Market
DESCRIPTION:Starting Saturday\, May 29th to our first Market at Meyer Oak Grove Park in Sauk City from 9:30AM to 1:00PM and every Saturday there after until October 16th! Walk or bike or bring a blanket and chairs\, this spacious park is a wonderful setting to bring local goods (produce\, jams\, flowers\, cold pressed organic juices\, baked good\, coffee\, food trucks\, etc.) from Sauk Prairie to our Sauk Prairie Community.\n\n\n\nIf you're interested in being apart of the market selling your goods please email c2juicery@gmail.com for more info or sign up here https://meyeroakgrovemarketvendorform.com!
X-ALT-DESC;FMTTYPE=text/html:<span style="font-size:14px\;"><span style="font-family:arial\;"><span style="color: rgb(5\, 5\, 5)\;">Starting Saturday\, May 29th to our first Market at Meyer Oak Grove Park in Sauk City from 9:30AM to 1:00PM and every Saturday there after until October 16th! Walk or bike or bring a blanket and chairs\, this spacious park is a wonderful setting to bring local goods (produce\, jams\, flowers\, cold pressed organic juices\, baked good\, coffee\, food trucks\, etc.) from Sauk Prairie to our Sauk Prairie Community.</span><br style="color: rgb(5\, 5\, 5)\; font-family: &quot\;Segoe UI Historic&quot\;\, &quot\;Segoe UI&quot\;\, Helvetica\, Arial\, sans-serif\; font-size: 15px\;" />\n<br style="color: rgb(5\, 5\, 5)\; font-family: &quot\;Segoe UI Historic&quot\;\, &quot\;Segoe UI&quot\;\, Helvetica\, Arial\, sans-serif\; font-size: 15px\;" />\n<span style="color: rgb(5\, 5\, 5)\;">If you&#39\;re interested in being apart of the market selling your goods please email c2juicery@gmail.com for more info or sign up here </span><a href="https://docs.google.com/forms/d/e/1FAIpQLSerUKlRuJJMq_rulSpFNezUZyGo1BZD3EdgNk40IGWeg0r2Ig/viewform?usp=sf_link">https://meyeroakgrovemarketvendorform.com</a><span style="color: rgb(5\, 5\, 5)\;">!</span></span></span>
LOCATION:Meyer Oak Grove Park Sauk City
UID:e.1184.26526
SEQUENCE:3
DTSTAMP:20260420T123155Z
URL:https://members.saukprairie.com/events/details/meyer-oak-grove-market-09-18-2021-26526
END:VEVENT

END:VCALENDAR
